BEGIN:VCALENDAR
VERSION:2.0
PRODID:-//Club des Jeunes Bartreng - ECPv//NONSGML v1.0//EN
CALSCALE:GREGORIAN
METHOD:PUBLISH
X-WR-CALNAME:Club des Jeunes Bartreng
X-ORIGINAL-URL:http://cjbartreng.lu
X-WR-CALDESC:Veranstaltungen für Club des Jeunes Bartreng
BEGIN:VEVENT
DTSTART;TZID=Europe/Berlin:20250801T160000
DTEND;TZID=Europe/Berlin:20250801T163000
DTSTAMP:20260421T084922
CREATED:20250626T194325Z
LAST-MODIFIED:20250626T194325Z
UID:965-1754064000-1754065800@cjbartreng.lu
SUMMARY:Duerffest Briefing Freides 16h
DESCRIPTION:
URL:http://cjbartreng.lu/event/duerffest-briefing-freides-16h/
END:VEVENT
END:VCALENDAR