BEGIN:VCALENDAR
VERSION:2.0
PRODID:-//Club des Jeunes Bartreng - ECPv//NONSGML v1.0//EN
CALSCALE:GREGORIAN
METHOD:PUBLISH
X-WR-CALNAME:Club des Jeunes Bartreng
X-ORIGINAL-URL:http://cjbartreng.lu
X-WR-CALDESC:Veranstaltungen für Club des Jeunes Bartreng
BEGIN:VEVENT
DTSTART;TZID=Europe/Berlin:20240803T140000
DTEND;TZID=Europe/Berlin:20240803T160000
DTSTAMP:20260421T085729
CREATED:20240621T114446Z
LAST-MODIFIED:20240621T114446Z
UID:812-1722693600-1722700800@cjbartreng.lu
SUMMARY:Duerffest Samschdes Schicht 2 - 14-16h
DESCRIPTION:
URL:http://cjbartreng.lu/event/duerffest-samschdes-schicht-2-14-16h/
END:VEVENT
END:VCALENDAR