BEGIN:VCALENDAR
VERSION:2.0
PRODID:-//Club des Jeunes Bartreng - ECPv//NONSGML v1.0//EN
CALSCALE:GREGORIAN
METHOD:PUBLISH
X-WR-CALNAME:Club des Jeunes Bartreng
X-ORIGINAL-URL:http://cjbartreng.lu
X-WR-CALDESC:Veranstaltungen für Club des Jeunes Bartreng
BEGIN:VEVENT
DTSTART;TZID=Europe/Berlin:20240804T140000
DTEND;TZID=Europe/Berlin:20240804T160000
DTSTAMP:20260420T082628
CREATED:20240621T114904Z
LAST-MODIFIED:20240621T114904Z
UID:823-1722780000-1722787200@cjbartreng.lu
SUMMARY:Duerffest Sonndes Schicht 2 - 14-16h
DESCRIPTION:
URL:http://cjbartreng.lu/event/duerffest-sonndes-schicht-2-14-16h/
END:VEVENT
END:VCALENDAR