BEGIN:VCALENDAR
VERSION:2.0
PRODID:-//Club des Jeunes Bartreng - ECPv//NONSGML v1.0//EN
CALSCALE:GREGORIAN
METHOD:PUBLISH
X-WR-CALNAME:Club des Jeunes Bartreng
X-ORIGINAL-URL:http://cjbartreng.lu
X-WR-CALDESC:Veranstaltungen für Club des Jeunes Bartreng
BEGIN:VEVENT
DTSTART;TZID=Europe/Berlin:20260328T200000
DTEND;TZID=Europe/Berlin:20260328T233000
DTSTAMP:20260419T164241
CREATED:20251214T200702Z
LAST-MODIFIED:20251214T200702Z
UID:1031-1774728000-1774740600@cjbartreng.lu
SUMMARY:Quizowend Scouten 28.3.2026
DESCRIPTION:D’Scouten organiséieren den 28. Mäerz rëm hire Quizowend a mir sinn natierlech als CJB och rëm dobäi.Also maacht iech bei a mellt iech u fir zesummen eis dem CJB säi Wëssen ze beweisen 😉 \nMir freeën eis ob iech 🙂 \n
URL:http://cjbartreng.lu/event/quizowend-scouten-28-3-2026/
END:VEVENT
END:VCALENDAR