BEGIN:VCALENDAR
VERSION:2.0
PRODID:-//Club des Jeunes Bartreng - ECPv//NONSGML v1.0//EN
CALSCALE:GREGORIAN
METHOD:PUBLISH
X-WR-CALNAME:Club des Jeunes Bartreng
X-ORIGINAL-URL:http://cjbartreng.lu
X-WR-CALDESC:Veranstaltungen für Club des Jeunes Bartreng
BEGIN:VEVENT
DTSTART;TZID=Europe/Berlin:20250801T190000
DTEND;TZID=Europe/Berlin:20250801T220000
DTSTAMP:20260421T084602
CREATED:20250626T193511Z
LAST-MODIFIED:20250626T193511Z
UID:971-1754074800-1754085600@cjbartreng.lu
SUMMARY:Schicht 2 Freides 19h-22h
DESCRIPTION:
URL:http://cjbartreng.lu/event/schicht-2-freides-19h-22h/
END:VEVENT
END:VCALENDAR